BEGIN:VCALENDAR
VERSION:2.0
PRODID:-//Lake City Museum - ECPv6.5.1.3//NONSGML v1.0//EN
CALSCALE:GREGORIAN
METHOD:PUBLISH
X-WR-CALNAME:Lake City Museum
X-ORIGINAL-URL:https://lakecitymuseum.com
X-WR-CALDESC:Events for Lake City Museum
REFRESH-INTERVAL;VALUE=DURATION:PT1H
X-Robots-Tag:noindex
X-PUBLISHED-TTL:PT1H
BEGIN:VTIMEZONE
TZID:UTC
BEGIN:STANDARD
TZOFFSETFROM:+0000
TZOFFSETTO:+0000
TZNAME:UTC
DTSTART:20230101T000000
END:STANDARD
END:VTIMEZONE
BEGIN:VEVENT
DTSTART;TZID=UTC:20230628T100000
DTEND;TZID=UTC:20230628T120000
DTSTAMP:20260421T212059
CREATED:20230613T195813Z
LAST-MODIFIED:20230702T172220Z
UID:283-1687946400-1687953600@lakecitymuseum.com
SUMMARY:Lost Lake City w/ Dr. Mette Flynt
DESCRIPTION:Lost Lake City explores forgotten people and places erased by fire\, flood\, and social change. Learn about early Black entrepreneurs\, Jewish community leaders\, the railroad\, Red Light District\, and more on this 1.5-hour walking tour. Begins at the museum at 10 A.M. \nClick here to buy tickets
URL:https://lakecitymuseum.com/event/lost-lake-city-w-dr-mette-flynt/
LOCATION:Hinsdale County Museum\, 130 Silver St.\, Lake City\, CO\, 81235\, United States
CATEGORIES:Lectures
END:VEVENT
END:VCALENDAR