BEGIN:VCALENDAR
VERSION:2.0
PRODID:-//Lake City Museum - ECPv6.5.1.3//NONSGML v1.0//EN
CALSCALE:GREGORIAN
METHOD:PUBLISH
X-ORIGINAL-URL:https://lakecitymuseum.com
X-WR-CALDESC:Events for Lake City Museum
REFRESH-INTERVAL;VALUE=DURATION:PT1H
X-Robots-Tag:noindex
X-PUBLISHED-TTL:PT1H
BEGIN:VTIMEZONE
TZID:UTC
BEGIN:STANDARD
TZOFFSETFROM:+0000
TZOFFSETTO:+0000
TZNAME:UTC
DTSTART:20230101T000000
END:STANDARD
END:VTIMEZONE
BEGIN:VEVENT
DTSTART;TZID=UTC:20230701T084500
DTEND;TZID=UTC:20230701T130000
DTSTAMP:20260421T195013
CREATED:20230117T035333Z
LAST-MODIFIED:20230629T161310Z
UID:102-1688201100-1688216400@lakecitymuseum.com
SUMMARY:Volcano Tour w/ Harvey DuChene
DESCRIPTION:Meet at the Museum at 8:45 AM with a vehicle (carpooling encouraged) for a 4-hour tour about local volcanoes from geologist Harvey DuChene. We suggest bringing water and a folding camp chair. Sorry\, no children under 12 years old. \nClick here to buy tickets
URL:https://lakecitymuseum.com/event/volcano-tour-w-harvey-duchene-2/
LOCATION:Hinsdale County Museum\, 130 Silver St.\, Lake City\, CO\, 81235\, United States
CATEGORIES:Volcano Tours
END:VEVENT
BEGIN:VEVENT
DTSTART;TZID=UTC:20230701T140000
DTEND;TZID=UTC:20230701T160000
DTSTAMP:20260421T195013
CREATED:20230303T000453Z
LAST-MODIFIED:20230623T004047Z
UID:196-1688220000-1688227200@lakecitymuseum.com
SUMMARY:Cemetery Tour w/ Grant Houston
DESCRIPTION:Want to meet Lake City’s early residents in a new way? They’re still around – come take a turn about the cemetery and visit them; learn about who they were and how they shaped the Lake City you see today. \nClick here to buy tickets
URL:https://lakecitymuseum.com/event/cemetery-tour-w-grant-houston-2/
LOCATION:Hinsdale County Museum\, 130 Silver St.\, Lake City\, CO\, 81235\, United States
CATEGORIES:Cemetery Tour
END:VEVENT
END:VCALENDAR