BEGIN:VCALENDAR
VERSION:2.0
PRODID:-//Lake City Museum - ECPv6.5.1.3//NONSGML v1.0//EN
CALSCALE:GREGORIAN
METHOD:PUBLISH
X-ORIGINAL-URL:https://lakecitymuseum.com
X-WR-CALDESC:Events for Lake City Museum
REFRESH-INTERVAL;VALUE=DURATION:PT1H
X-Robots-Tag:noindex
X-PUBLISHED-TTL:PT1H
BEGIN:VTIMEZONE
TZID:UTC
BEGIN:STANDARD
TZOFFSETFROM:+0000
TZOFFSETTO:+0000
TZNAME:UTC
DTSTART:20230101T000000
END:STANDARD
END:VTIMEZONE
BEGIN:VEVENT
DTSTART;TZID=UTC:20230720T140000
DTEND;TZID=UTC:20230720T160000
DTSTAMP:20260421T195012
CREATED:20230702T180647Z
LAST-MODIFIED:20230709T221418Z
UID:435-1689861600-1689868800@lakecitymuseum.com
SUMMARY:Masonic Lodge Tour with Charles (Yogi) Ferris
DESCRIPTION:Join us for a rare opportunity to visit the historic Crystal Lake Lodge Masonic Building on Silver Street. The Masons have been active in Lake City since 1875\, and this building has served as their lodge since 1908. It is a fascinating time capsule\, with many original pieces of furniture as well as lodge fixtures and accessories which are still in use today.  The evening will begin with brief introductory remarks by Museum Director Grant Houston & docent Greg Hoffman. \nMeet at the Lake City Masonic Lodge – 215 Silver Street in Lake City \nClick here to buy tickets
URL:https://lakecitymuseum.com/event/masonic-lodge-tour-with-charles-yogi-ferris-and-grant-houston/
LOCATION:Lake City Masonic Lodge\, 215 Silver Street\, Lake City\, CO\, 81235\, United States
CATEGORIES:Lectures
END:VEVENT
END:VCALENDAR