BEGIN:VCALENDAR
VERSION:2.0
PRODID:-//Lake City Museum - ECPv6.5.1.3//NONSGML v1.0//EN
CALSCALE:GREGORIAN
METHOD:PUBLISH
X-ORIGINAL-URL:https://lakecitymuseum.com
X-WR-CALDESC:Events for Lake City Museum
REFRESH-INTERVAL;VALUE=DURATION:PT1H
X-Robots-Tag:noindex
X-PUBLISHED-TTL:PT1H
BEGIN:VTIMEZONE
TZID:UTC
BEGIN:STANDARD
TZOFFSETFROM:+0000
TZOFFSETTO:+0000
TZNAME:UTC
DTSTART:20230101T000000
END:STANDARD
END:VTIMEZONE
BEGIN:VEVENT
DTSTART;TZID=UTC:20230722T090000
DTEND;TZID=UTC:20230722T120000
DTSTAMP:20260421T195058
CREATED:20230117T040904Z
LAST-MODIFIED:20230629T000208Z
UID:116-1690016400-1690027200@lakecitymuseum.com
SUMMARY:Rocks and Minerals 101 w/ Harvey Duchene
DESCRIPTION:A three-hour class with local geologist Harvey Duchene on rocks that can be found in the area and how to identify them\, as well as learn about their formation. \nAdults – $25 person\, Children under 14 – $10 No children under 10 years old. \nClick here to buy tickets
URL:https://lakecitymuseum.com/event/rocks-and-minerals-101/
LOCATION:Hinsdale County Museum\, 130 Silver St.\, Lake City\, CO\, 81235\, United States
CATEGORIES:Rocks & Minerals 101
END:VEVENT
END:VCALENDAR