BEGIN:VCALENDAR
VERSION:2.0
PRODID:-//Lake City Museum - ECPv6.5.1.3//NONSGML v1.0//EN
CALSCALE:GREGORIAN
METHOD:PUBLISH
X-WR-CALNAME:Lake City Museum
X-ORIGINAL-URL:https://lakecitymuseum.com
X-WR-CALDESC:Events for Lake City Museum
REFRESH-INTERVAL;VALUE=DURATION:PT1H
X-Robots-Tag:noindex
X-PUBLISHED-TTL:PT1H
BEGIN:VTIMEZONE
TZID:UTC
BEGIN:STANDARD
TZOFFSETFROM:+0000
TZOFFSETTO:+0000
TZNAME:UTC
DTSTART:20230101T000000
END:STANDARD
END:VTIMEZONE
BEGIN:VEVENT
DTSTART;TZID=UTC:20230801T183000
DTEND;TZID=UTC:20230801T203000
DTSTAMP:20260421T180429
CREATED:20230303T010651Z
LAST-MODIFIED:20230705T015839Z
UID:215-1690914600-1690921800@lakecitymuseum.com
SUMMARY:Scarlet Belles
DESCRIPTION:Returning\, triumphant\, for its 10th season – Lake City’s own Scarlet Belles musical performance! Written by Grant Houston and Mary Stigall\, and directed by Alice Attaway-Curry\, this play will introduce you to some (fictional) characters from Lake City’s historic red light district. \nDoors at 6:30 P.M.\, Music at 7:00 P.M.\, Show at 7:30 P.M. \n$25 for Adults (play contains mature themes) \nClick here to buy tickets
URL:https://lakecitymuseum.com/event/scarlet-belles-4/
LOCATION:Hinsdale County Museum\, 130 Silver St.\, Lake City\, CO\, 81235\, United States
CATEGORIES:Scarlet Belles
END:VEVENT
END:VCALENDAR