BEGIN:VCALENDAR
VERSION:2.0
PRODID:-//Lake City Museum - ECPv6.5.1.3//NONSGML v1.0//EN
CALSCALE:GREGORIAN
METHOD:PUBLISH
X-ORIGINAL-URL:https://lakecitymuseum.com
X-WR-CALDESC:Events for Lake City Museum
REFRESH-INTERVAL;VALUE=DURATION:PT1H
X-Robots-Tag:noindex
X-PUBLISHED-TTL:PT1H
BEGIN:VTIMEZONE
TZID:UTC
BEGIN:STANDARD
TZOFFSETFROM:+0000
TZOFFSETTO:+0000
TZNAME:UTC
DTSTART:20230101T000000
END:STANDARD
END:VTIMEZONE
BEGIN:VEVENT
DTSTART;TZID=UTC:20230814T180000
DTEND;TZID=UTC:20230814T200000
DTSTAMP:20260421T180544
CREATED:20230303T010000Z
LAST-MODIFIED:20230724T035930Z
UID:211-1692036000-1692043200@lakecitymuseum.com
SUMMARY:Antique Advertising w/ Greg Hoffman
DESCRIPTION:This presentation will examine real promotional objects\, devices and signs used for the advertising of goods and services in America beginning in the late 1800’s through the early 1900’s. Featured pieces will come from the speaker’s collection as well as rarely-seen holdings from the basement of the Lake City Museum. Come see the many clever and whimsical ways that stores\, service providers and consumer brands attempted to reach their customers in days gone by. \nClick here to buy tickets \n 
URL:https://lakecitymuseum.com/event/antique-advertising-w-greg-hoffman/
LOCATION:Hinsdale County Museum\, 130 Silver St.\, Lake City\, CO\, 81235\, United States
CATEGORIES:Lectures
END:VEVENT
END:VCALENDAR