BEGIN:VCALENDAR
VERSION:2.0
PRODID:-//Lake City Museum - ECPv6.5.1.3//NONSGML v1.0//EN
CALSCALE:GREGORIAN
METHOD:PUBLISH
X-ORIGINAL-URL:https://lakecitymuseum.com
X-WR-CALDESC:Events for Lake City Museum
REFRESH-INTERVAL;VALUE=DURATION:PT1H
X-Robots-Tag:noindex
X-PUBLISHED-TTL:PT1H
BEGIN:VTIMEZONE
TZID:UTC
BEGIN:STANDARD
TZOFFSETFROM:+0000
TZOFFSETTO:+0000
TZNAME:UTC
DTSTART:20230101T000000
END:STANDARD
END:VTIMEZONE
BEGIN:VEVENT
DTSTART;TZID=UTC:20231123T100000
DTEND;TZID=UTC:20231123T120000
DTSTAMP:20260421T130740
CREATED:20231116T222728Z
LAST-MODIFIED:20231116T222728Z
UID:492-1700733600-1700740800@lakecitymuseum.com
SUMMARY:Turkey Trot
DESCRIPTION:Join us on Thanksgiving Day for a fun walk beginning at the Hinsdale County Museum on 10 AM. Please bring a donation to benefit the Hinsdale County Sheriff’s Office ‘Toys for Tots’\, which provides toys and warm clothing for children in our community this Christmas. \nRefresments will be served.
URL:https://lakecitymuseum.com/event/turkey-trot/
LOCATION:Hinsdale County Museum\, 130 Silver St.\, Lake City\, CO\, 81235\, United States
END:VEVENT
END:VCALENDAR