BEGIN:VCALENDAR
VERSION:2.0
PRODID:-//Lake City Museum - ECPv6.5.1.3//NONSGML v1.0//EN
CALSCALE:GREGORIAN
METHOD:PUBLISH
X-ORIGINAL-URL:https://lakecitymuseum.com
X-WR-CALDESC:Events for Lake City Museum
REFRESH-INTERVAL;VALUE=DURATION:PT1H
X-Robots-Tag:noindex
X-PUBLISHED-TTL:PT1H
BEGIN:VTIMEZONE
TZID:UTC
BEGIN:STANDARD
TZOFFSETFROM:+0000
TZOFFSETTO:+0000
TZNAME:UTC
DTSTART:20250101T000000
END:STANDARD
END:VTIMEZONE
BEGIN:VEVENT
DTSTART;TZID=UTC:20250822T190000
DTEND;TZID=UTC:20250822T210000
DTSTAMP:20260422T104900
CREATED:20250524T204618Z
LAST-MODIFIED:20250630T193008Z
UID:738-1755889200-1755896400@lakecitymuseum.com
SUMMARY:Ghost Tour w/ Jesse Kendell
DESCRIPTION:Come learn about our local ghosts on a walking tour of Lake City’s Historic District – from town-wide arsenic poisonings to corpse amputations\, duels to hangings\, child poltergeists to apparitions\, we’ve got it all. Meet at museum at 7:15 PM. \nAdults $15 and Children under 10 $5 \nTickets Available Here!
URL:https://lakecitymuseum.com/event/ghost-tour-w-jesse-kendell-12/
CATEGORIES:Ghost Tours
END:VEVENT
END:VCALENDAR