BEGIN:VCALENDAR
VERSION:2.0
PRODID:-//Lake City Museum - ECPv6.5.1.3//NONSGML v1.0//EN
CALSCALE:GREGORIAN
METHOD:PUBLISH
X-WR-CALNAME:Lake City Museum
X-ORIGINAL-URL:https://lakecitymuseum.com
X-WR-CALDESC:Events for Lake City Museum
REFRESH-INTERVAL;VALUE=DURATION:PT1H
X-Robots-Tag:noindex
X-PUBLISHED-TTL:PT1H
BEGIN:VTIMEZONE
TZID:UTC
BEGIN:STANDARD
TZOFFSETFROM:+0000
TZOFFSETTO:+0000
TZNAME:UTC
DTSTART:20230101T000000
END:STANDARD
END:VTIMEZONE
BEGIN:VEVENT
DTSTART;TZID=UTC:20231001T130000
DTEND;TZID=UTC:20231001T160000
DTSTAMP:20260421T130649
CREATED:20230924T170804Z
LAST-MODIFIED:20230925T144732Z
UID:478-1696165200-1696176000@lakecitymuseum.com
SUMMARY:Free Admission Day!
DESCRIPTION:Visit the Hinsdale County Museum for FREE! \nWe’re open 1 – 4 PM this Sunday with free admission to all of our exhibits!
URL:https://lakecitymuseum.com/event/free-admission-day-2/
LOCATION:Hinsdale County Museum\, 130 Silver St.\, Lake City\, CO\, 81235\, United States
END:VEVENT
END:VCALENDAR