BEGIN:VCALENDAR
VERSION:2.0
PRODID:-//Lake City Museum - ECPv6.5.1.3//NONSGML v1.0//EN
CALSCALE:GREGORIAN
METHOD:PUBLISH
X-ORIGINAL-URL:https://lakecitymuseum.com
X-WR-CALDESC:Events for Lake City Museum
REFRESH-INTERVAL;VALUE=DURATION:PT1H
X-Robots-Tag:noindex
X-PUBLISHED-TTL:PT1H
BEGIN:VTIMEZONE
TZID:UTC
BEGIN:STANDARD
TZOFFSETFROM:+0000
TZOFFSETTO:+0000
TZNAME:UTC
DTSTART:20250101T000000
END:STANDARD
END:VTIMEZONE
BEGIN:VEVENT
DTSTART;TZID=UTC:20250905T190000
DTEND;TZID=UTC:20250905T210000
DTSTAMP:20260421T100119
CREATED:20250524T205542Z
LAST-MODIFIED:20250630T192910Z
UID:747-1757098800-1757106000@lakecitymuseum.com
SUMMARY:Ghost Tour w/ Jesse Kendell
DESCRIPTION:Come learn about our local ghosts on a walking tour of Lake City’s Historic District – from town-wide arsenic poisonings to corpse amputations\, duels to hangings\, child poltergeists to apparitions\, we’ve got it all. Meet at museum at 7:15 PM. \nAdults $15 and Children under 10 $5 \nTickets Available Here!
URL:https://lakecitymuseum.com/event/ghost-tour-w-jesse-kendell-14/
CATEGORIES:Ghost Tours
END:VEVENT
BEGIN:VEVENT
DTSTART;TZID=UTC:20250910T140000
DTEND;TZID=UTC:20250910T153000
DTSTAMP:20260421T100119
CREATED:20250524T204911Z
LAST-MODIFIED:20250524T205959Z
UID:740-1757512800-1757518200@lakecitymuseum.com
SUMMARY:Alfred Packer Lecture and Court House Tour w/ Mike Harrington
DESCRIPTION:Learn about the entire lifetime of Alferd Packer. From birth through the Civil War\, his times and trials in Colorado\, his hardship with survival and starvation\, to his trial and punishment for cannibalism. \nTickets Available Here!
URL:https://lakecitymuseum.com/event/alfred-packer-lecture-and-court-house-tour-w-mike-harrington/
CATEGORIES:Lectures
END:VEVENT
BEGIN:VEVENT
DTSTART;TZID=UTC:20250912T190000
DTEND;TZID=UTC:20250912T210000
DTSTAMP:20260421T100119
CREATED:20250524T205631Z
LAST-MODIFIED:20250630T192834Z
UID:749-1757703600-1757710800@lakecitymuseum.com
SUMMARY:Ghost Tour w/ Jesse Kendell
DESCRIPTION:Come learn about our local ghosts on a walking tour of Lake City’s Historic District – from town-wide arsenic poisonings to corpse amputations\, duels to hangings\, child poltergeists to apparitions\, we’ve got it all. Meet at museum at 7:15 PM. \nAdults $15 and Children under 10 $5 \nTickets Available Here!
URL:https://lakecitymuseum.com/event/ghost-tour-w-jesse-kendell-15/
CATEGORIES:Ghost Tours
END:VEVENT
BEGIN:VEVENT
DTSTART;TZID=UTC:20250919T190000
DTEND;TZID=UTC:20250919T210000
DTSTAMP:20260421T100119
CREATED:20250524T205720Z
LAST-MODIFIED:20250630T192811Z
UID:751-1758308400-1758315600@lakecitymuseum.com
SUMMARY:Ghost Tour w/ Jesse Kendell
DESCRIPTION:Come learn about our local ghosts on a walking tour of Lake City’s Historic District – from town-wide arsenic poisonings to corpse amputations\, duels to hangings\, child poltergeists to apparitions\, we’ve got it all. Meet at museum at 7:15 PM. \nAdults $15 and Children under 10 $5 \nTickets Available Here!
URL:https://lakecitymuseum.com/event/ghost-tour-w-jesse-kendell-16/
CATEGORIES:Ghost Tours
END:VEVENT
BEGIN:VEVENT
DTSTART;TZID=UTC:20250926T190000
DTEND;TZID=UTC:20250926T210000
DTSTAMP:20260421T100119
CREATED:20250524T210231Z
LAST-MODIFIED:20250630T192658Z
UID:755-1758913200-1758920400@lakecitymuseum.com
SUMMARY:Last Ghost Tour of the Season w/ Jesse Kendell
DESCRIPTION:Come learn about our local ghosts on a walking tour of Lake City’s Historic District – from town-wide arsenic poisonings to corpse amputations\, duels to hangings\, child poltergeists to apparitions\, we’ve got it all. Meet at museum at 7:15 PM. \nAdults $15 and Children under 10 $5 \nTickets Available Here!
URL:https://lakecitymuseum.com/event/last-ghost-tour-of-the-season-w-jesse-kendell/
CATEGORIES:Ghost Tours
END:VEVENT
END:VCALENDAR